BEGIN:VCALENDAR
VERSION:2.0
PRODID:-//CTNews Buzz - ECPv6.15.11//NONSGML v1.0//EN
CALSCALE:GREGORIAN
METHOD:PUBLISH
X-WR-CALNAME:CTNews Buzz
X-ORIGINAL-URL:https://ctnewsbuzz.com
X-WR-CALDESC:Events for CTNews Buzz
REFRESH-INTERVAL;VALUE=DURATION:PT1H
X-Robots-Tag:noindex
X-PUBLISHED-TTL:PT1H
BEGIN:VTIMEZONE
TZID:America/New_York
BEGIN:DAYLIGHT
TZOFFSETFROM:-0500
TZOFFSETTO:-0400
TZNAME:EDT
DTSTART:20240310T070000
END:DAYLIGHT
BEGIN:STANDARD
TZOFFSETFROM:-0400
TZOFFSETTO:-0500
TZNAME:EST
DTSTART:20241103T060000
END:STANDARD
BEGIN:DAYLIGHT
TZOFFSETFROM:-0500
TZOFFSETTO:-0400
TZNAME:EDT
DTSTART:20250309T070000
END:DAYLIGHT
BEGIN:STANDARD
TZOFFSETFROM:-0400
TZOFFSETTO:-0500
TZNAME:EST
DTSTART:20251102T060000
END:STANDARD
BEGIN:DAYLIGHT
TZOFFSETFROM:-0500
TZOFFSETTO:-0400
TZNAME:EDT
DTSTART:20260308T070000
END:DAYLIGHT
BEGIN:STANDARD
TZOFFSETFROM:-0400
TZOFFSETTO:-0500
TZNAME:EST
DTSTART:20261101T060000
END:STANDARD
END:VTIMEZONE
BEGIN:VEVENT
DTSTART;VALUE=DATE:20250621
DTEND;VALUE=DATE:20250622
DTSTAMP:20260422T080633
CREATED:20250622T193339Z
LAST-MODIFIED:20250622T193339Z
UID:12802-1750464000-1750550399@ctnewsbuzz.com
SUMMARY:River Rocks – A Celebration on the Farmington River
DESCRIPTION:The festival kicks off summer with Connecticut musician performances\, family-friendly activities\, and local food. Volunteers are welcome.
URL:https://ctnewsbuzz.com/event/river-rocks-a-celebration-on-the-farmington-river/
LOCATION:Hurley Business Park\, 37 Greenwoods Rd\, New Hartford\, CT\, 06057\, United States
CATEGORIES:Festivals & Fairs
ATTACH;FMTTYPE=image/webp:https://ctnewsbuzz.com/wp-content/uploads/2025/06/6_21-River-Rocks.webp
ORGANIZER;CN="Town of New Hartford Planning Committee":MAILTO:riverrocksNH@gmail.com
END:VEVENT
END:VCALENDAR